BEGIN:VCALENDAR
VERSION:2.0
PRODID:-//Squarespace Inc/Squarespace 6//v6//EN
BEGIN:VEVENT
UID:5d4a634bbe2ba40001681383@squarespace.com
DTSTAMP:20190807T053620Z
DTSTART:20190804T020000Z
DTEND:20190804T050000Z
SUMMARY: Social Sunday
END:VEVENT
END:VCALENDAR
