BEGIN:VCALENDAR
VERSION:2.0
PRODID:-//Squarespace Inc/Squarespace 6//v6//EN
BEGIN:VEVENT
UID:5d4a600d5df26e0001792f57@squarespace.com
DTSTAMP:20190807T052236Z
DTSTART:20190818T020000Z
DTEND:20190818T050000Z
SUMMARY:Social Sunday
END:VEVENT
END:VCALENDAR
