BEGIN:VCALENDAR
VERSION:2.0
PRODID:-//Squarespace Inc/Squarespace 6//v6//EN
BEGIN:VEVENT
UID:5d4a605e8da3b90001fcf982@squarespace.com
DTSTAMP:20190807T052352Z
DTSTART:20190908T020000Z
DTEND:20190908T050000Z
SUMMARY:Social Sunday
END:VEVENT
END:VCALENDAR
