BEGIN:VCALENDAR
VERSION:2.0
PRODID:-//Squarespace Inc/Squarespace 6//v6//EN
BEGIN:VEVENT
UID:5d4a604cba997c00019affbd@squarespace.com
DTSTAMP:20190807T052335Z
DTSTART:20190901T020000Z
DTEND:20190901T050000Z
SUMMARY:Social Sunday
END:VEVENT
END:VCALENDAR
