BEGIN:VCALENDAR
VERSION:2.0
PRODID:-//Squarespace Inc/Squarespace 6//v6//EN
BEGIN:VEVENT
UID:5d4a14ff2a5e0f0001e12c61@squarespace.com
DTSTAMP:20190807T051919Z
DTSTART:20190811T020000Z
DTEND:20190811T050000Z
SUMMARY:Social Sunday
END:VEVENT
END:VCALENDAR
