BEGIN:VCALENDAR
VERSION:2.0
PRODID:-//Squarespace Inc/Squarespace 6//v6//EN
BEGIN:VEVENT
UID:5d3af1836c85f80001c20a02@squarespace.com
DTSTAMP:20190807T000013Z
DTSTART:20190921T220000Z
DTEND:20190922T040000Z
SUMMARY:Tulip Sunday at Wellington Botanical Garden
END:VEVENT
END:VCALENDAR
